BEGIN:VCALENDAR
VERSION:2.0
PRODID:-//juiceboxinteractive//NONSGML Events //EN
X-WR-CALNAME:Blanton Museum of Art - Events
X-WR-CALDESC:Blanton Museum of Art - Events
CALSCALE:GREGORIAN
TZID:America/Chicago
BEGIN:VEVENT
UID:event-41017@blantonmuseum.org
DTSTART:20260618T190000Z
DTEND:20260618T200000Z
DTSTAMP:20251022T152434Z
SUMMARY:Sound Break featuring Conspirare
DESCRIPTION:<p><!-- wp:paragraph --></p>
<p class="has-extra-large-font-size">Our concert series invites you to unwind and enjoy live performances by some of Austin’s best choirs and instrumental ensembles. Austin&#8217;s premiere choral ensemble <strong>Conspirare</strong> return to perform live in our Rapoport Atrium.</p>
<p><!-- /wp:paragraph --> <!-- wp:paragraph --></p>
<p class="has-medium-font-size"><strong>Included with Admission. FREE for Blanton Members. Limited seating.</strong></p>
<p><!-- /wp:paragraph --></p>

LOCATION:
END:VEVENT
END:VCALENDAR