BEGIN:VCALENDAR
VERSION:2.0
PRODID:-//juiceboxinteractive//NONSGML Events //EN
X-WR-CALNAME:Blanton Museum of Art - Events
X-WR-CALDESC:Blanton Museum of Art - Events
CALSCALE:GREGORIAN
TZID:America/Chicago
BEGIN:VEVENT
UID:event-41018@blantonmuseum.org
DTSTART:20260813T190000Z
DTEND:20260813T200000Z
DTSTAMP:20251022T152513Z
SUMMARY:Sound Break
DESCRIPTION:<p><!-- wp:paragraph --></p>
<p class="has-extra-large-font-size">Our newest series invites you to unwind and enjoy live performances by some of Austin’s best choirs and instrumental ensembles.</p>
<p><!-- /wp:paragraph --> <!-- wp:paragraph --></p>
<p class="has-medium-font-size"><strong>Included with Admission. FREE for Blanton Members. Limited seating.</strong></p>
<p><!-- /wp:paragraph --></p>

LOCATION:
END:VEVENT
END:VCALENDAR