BEGIN:VCALENDAR
VERSION:2.0
PRODID:-//juiceboxinteractive//NONSGML Events //EN
X-WR-CALNAME:Blanton Museum of Art - Events
X-WR-CALDESC:Blanton Museum of Art - Events
CALSCALE:GREGORIAN
TZID:America/Chicago
BEGIN:VEVENT
UID:event-41033@blantonmuseum.org
DTSTART:20260725T000000Z
DTEND:20260725T040000Z
DTSTAMP:20251027T100713Z
SUMMARY:B Scene: July 2026
DESCRIPTION:<p><!-- wp:paragraph --></p>
<p><strong>More info coming soon.</strong></p>
<p>Blanton Members get discounted admission and parking. <em>Not yet a member? <a href="https://blantonmuseum.org/support/membership/">Join today!</a></em> (Please note, regular museum discounts such as UT-Austin ID Holder, Military, K-12 Teacher, Student, and Senior do not apply for special events.)</p>
<p><!-- /wp:paragraph --></p>

LOCATION:
END:VEVENT
END:VCALENDAR