BEGIN:VCALENDAR
VERSION:2.0
PRODID:-//juiceboxinteractive//NONSGML Events //EN
X-WR-CALNAME:Blanton Museum of Art - Events
X-WR-CALDESC:Blanton Museum of Art - Events
CALSCALE:GREGORIAN
TZID:America/Chicago
BEGIN:VEVENT
UID:event-42237@blantonmuseum.org
DTSTART:20260526T173000Z
DTEND:20260526T183000Z
DTSTAMP:20260417T114527Z
SUMMARY:Public Tour – Art in Every Corner: The Works Progress Administration (1935-1943)
DESCRIPTION:<p>This exhibition highlights artworks created under the Works Progress Administration (WPA), tracing how President Franklin D. Roosevelt&#8217;s New Deal relief program shaped artists’ portrayals of American life and brought federally sponsored works into various institutions including the Blanton. Through close looking and conversation, we will make meaningful connections to the works of art on display in our latest Paper Vault Exhibition. Learn more about  <em>Art in Every Corner: The Works Progress Administration (1935-1943)</em>  on the <a href="https://blantonmuseum.org/exhibition/art-in-every-corner/" target="_blank" rel="noreferrer noopener">dedicated web page</a>.</p>
<p>Please arrive at least 15 minutes before the start of the tour. Our tours can accommodate a maximum of 25 people on a first come, first serve basis. Please check-in with our Visitor Services Desk to secure your place.</p>
<p>Feature Image Caption: Elizabeth Olds, <em>Steel Mills</em>, circa 1935, color lithograph, 14 3/4 × 20 3/4 in., Blanton Museum of Art, The University of Texas at Austin, Deposit from the Works Progress Administration, United States Government, G1943.1.18</p>
<figure class="bma-card bma-card--has-text" aria-hidden="false"></figure>

LOCATION:
END:VEVENT
END:VCALENDAR