BEGIN:VCALENDAR
VERSION:2.0
PRODID:-//juiceboxinteractive//NONSGML Events //EN
X-WR-CALNAME:Blanton Museum of Art - Events
X-WR-CALDESC:Blanton Museum of Art - Events
CALSCALE:GREGORIAN
TZID:America/Chicago
BEGIN:VEVENT
UID:event-42275@blantonmuseum.org
DTSTART:20260526T190000Z
DTEND:20260526T200000Z
DTSTAMP:20260417T114608Z
SUMMARY:Visita guiada pública [EN ESPAÑOL] - Arte en Cada Rincón: The Works Progress Administration (1935–1943)
DESCRIPTION:<p>Esta exposición destaca obras de arte creadas bajo la Administración de Obras en Progreso (WPA), y traza cómo el programa de asistencia del <i>New Deal</i> del presidente Franklin D. Roosevelt moldeó las representaciones artísticas de la vida estadounidense y llevó obras patrocinadas por el gobierno federal a diversas instituciones, incluido el Blanton.</p>
<p>A través de una mirada atenta y conversación, estableceremos conexiones significativas con las obras de arte expuestas en nuestra última exposición del Paper Vault. Más información sobre <em>Arte en Cada Rincón: The Works Progress Administration (1935–1943) </em><a href="https://blantonmuseum.org/exhibition/art-in-every-corner/" target="_blank" rel="noopener">en la página web dedicada</a>.</p>
<p>Se ruega llegar al menos 15 minutos antes del comienzo de la visita. Nuestras visitas guiadas tienen capacidad para un máximo de 25 personas por orden de llegada. Por favor, regístrese en nuestro mostrador de servicios al visitante para asegurar su plaza.</p>
<p><!-- /wp:paragraph --></p>
<p>&nbsp;</p>
<p><!-- /wp:paragraph --></p>

LOCATION:
END:VEVENT
END:VCALENDAR