BEGIN:VCALENDAR
VERSION:2.0
PRODID:-//juiceboxinteractive//NONSGML Events //EN
X-WR-CALNAME:Blanton Museum of Art - Events
X-WR-CALDESC:Blanton Museum of Art - Events
CALSCALE:GREGORIAN
TZID:America/Chicago
BEGIN:VEVENT
UID:event-42306@blantonmuseum.org
DTSTART:20260505T190000Z
DTEND:20260505T200000Z
DTSTAMP:20260417T113354Z
SUMMARY:Visita guiada pública [EN ESPAÑOL] - Arte de America Latina
DESCRIPTION:<p><!-- wp:pattern /--> <!-- wp:paragraph --></p>
<p><!-- wp:paragraph --></p>
<p>¡Acompáñenos en un viaje a través de nuestra colección amplia de arte latinoamericano! A través de la observación atenta y la conversación, formaremos conexiones significativas con obras de arte de México, Sudamérica, Centroamérica y el Caribe. Encontrará las obras realizadas desde 1650 y tan recientemente como hoy. Aprenda más sobre nuestra colecciones de arte latinoamericano y arte de las americas españolas en <a href="https://blanton.emuseum.com/collections" target="_blank" rel="noreferrer noopener">la página web de la Colección Permanente</a>.</p>
<p><!-- /wp:paragraph --> <!-- wp:paragraph --></p>
<p>Se ruega llegar al menos 15 minutos antes del comienzo de la visita. Nuestras visitas tienen capacidad para un máximo de 25 personas, atendidas por orden de llegada. Por favor, regístrese en nuestro mostrador de atención al visitante para asegurar su lugar.<!-- /wp:paragraph --></p>
<p><!-- /wp:paragraph --> <!-- wp:paragraph --></p>
<p>Busque actualizaciones revisando nuestra página Antes de Su Visita (Before You Visit) cuando planifique su visita. El Blanton está ubicado en la intersección de Congress Avenue y Martin Luther King Jr. Boulevard.</p>
<p><!-- /wp:paragraph --> <!-- wp:paragraph --></p>
<p>Hay estacionamiento de pago disponible en el Brazos Garage, localizado en la esquina de Brazos Street y Martin Luther King Jr. Boulevard. Los miembros de Blanton sólo pagan 4 dólares por estacionarse ahí: traiga su boleto de estacionamiento al mostrador de servicios al visitante para pagarlo. El público en general debe pagar la tarifa normal directamente en la caja del estacionamiento.</p>
<p><!-- /wp:paragraph --></p>

LOCATION:
END:VEVENT
END:VCALENDAR