BEGIN:VCALENDAR
VERSION:2.0
PRODID:-//juiceboxinteractive//NONSGML Events //EN
X-WR-CALNAME:Blanton Museum of Art - Events
X-WR-CALDESC:Blanton Museum of Art - Events
CALSCALE:GREGORIAN
TZID:America/Chicago
BEGIN:VEVENT
UID:event-41032@blantonmuseum.org
DTSTART:20260425T000000Z
DTEND:20260425T040000Z
DTSTAMP:20251027T100546Z
SUMMARY:B Scene: Color Me Cute
DESCRIPTION:<p><!-- wp:paragraph --></p>
<p>Step into a bold, playful after‑hours celebration inspired by <a href="https://blantonmuseum.org/exhibition/american-modernism/" target="_blank" rel="noopener"><em>American Modernism</em></a>. Enjoy cocktails, creative activities, and captivating collections, then let live performances by <a href="https://www.dossey.world/" target="_blank" rel="noopener"><strong>Dossey</strong> </a>and <a href="https://www.nativefictionrecords.com/janeleo" target="_blank" rel="noopener"><strong>Jane Leo</strong></a> light up the night. Costumes encouraged — go vibrant and come dressed to impress! <a href="https://pin.it/761arnlls" target="_blank" rel="noopener">Check out our Pinterest Board for inspiration!</a> <em>Live music presented by Resound Presents.</em></p>
<p><strong>🌟 Blanton Member exclusive:</strong> Get discounted admission and parking, plus access to a members-only lounge with dedicated cash bar. <em>Not yet a member? <a href="https://blantonmuseum.org/membership/">Join today!</a></em> (Please note, regular museum discounts such as UT-Austin ID Holder, Military, K-12 Teacher, Student, and Senior do not apply for special events.)</p>
<p><strong>🍸 Food and drink</strong> available for purchase from <strong>TacoWey</strong> (while supplies last) and <strong>Haymaker Bar.</strong></p>
<p><em>Support for B Scene at the Blanton is provided in part by KUTX.</em></p>
<p><strong>Parking Info: </strong><strong>$15 event parking is available at UT’s Brazos Garage on the night. Blanton Members get $4 parking</strong>, payable at garage with proof of membership. Rideshares can drop off in the Drop-Off circle on Brazos St. Get tips on bicycle parking and public transportation routes <a href="https://blantonmuseum.org/visit/" target="_blank" rel="noopener">on our Visit Page</a>.</p>
<p><!-- /wp:paragraph --></p>

LOCATION:
END:VEVENT
END:VCALENDAR